BEGIN:VCALENDAR
VERSION:2.0
PRODID:-//Loue River - ECPv6.15.20//NONSGML v1.0//EN
CALSCALE:GREGORIAN
METHOD:PUBLISH
X-ORIGINAL-URL:https://www.louerivermusic.com
X-WR-CALDESC:Évènements pour Loue River
REFRESH-INTERVAL;VALUE=DURATION:PT1H
X-Robots-Tag:noindex
X-PUBLISHED-TTL:PT1H
BEGIN:VTIMEZONE
TZID:Europe/Paris
BEGIN:DAYLIGHT
TZOFFSETFROM:+0100
TZOFFSETTO:+0200
TZNAME:CEST
DTSTART:20250330T010000
END:DAYLIGHT
BEGIN:STANDARD
TZOFFSETFROM:+0200
TZOFFSETTO:+0100
TZNAME:CET
DTSTART:20251026T010000
END:STANDARD
BEGIN:DAYLIGHT
TZOFFSETFROM:+0100
TZOFFSETTO:+0200
TZNAME:CEST
DTSTART:20260329T010000
END:DAYLIGHT
BEGIN:STANDARD
TZOFFSETFROM:+0200
TZOFFSETTO:+0100
TZNAME:CET
DTSTART:20261025T010000
END:STANDARD
BEGIN:DAYLIGHT
TZOFFSETFROM:+0100
TZOFFSETTO:+0200
TZNAME:CEST
DTSTART:20270328T010000
END:DAYLIGHT
BEGIN:STANDARD
TZOFFSETFROM:+0200
TZOFFSETTO:+0100
TZNAME:CET
DTSTART:20271031T010000
END:STANDARD
END:VTIMEZONE
BEGIN:VEVENT
DTSTART;TZID=Europe/Paris:20260927T200000
DTEND;TZID=Europe/Paris:20260927T230000
DTSTAMP:20260420T211342
CREATED:20260404T102454Z
LAST-MODIFIED:20260404T102454Z
UID:62501-1790539200-1790550000@www.louerivermusic.com
SUMMARY:Eglise de Mont-Sous-Vaudrey (39)
DESCRIPTION:
URL:https://www.louerivermusic.com/concert/eglise-de-mont-sous-vaudrey-39/
LOCATION:Mont-sous-Vaudrey (39)
CATEGORIES:Music
END:VEVENT
END:VCALENDAR